BEGIN:VCALENDAR
VERSION:2.0
PRODID:-//United Animal Friends - ECPv6.15.17//NONSGML v1.0//EN
CALSCALE:GREGORIAN
METHOD:PUBLISH
X-WR-CALNAME:United Animal Friends
X-ORIGINAL-URL:https://unitedanimalfriends.org
X-WR-CALDESC:Events for United Animal Friends
REFRESH-INTERVAL;VALUE=DURATION:PT1H
X-Robots-Tag:noindex
X-PUBLISHED-TTL:PT1H
BEGIN:VTIMEZONE
TZID:America/Phoenix
BEGIN:STANDARD
TZOFFSETFROM:-0700
TZOFFSETTO:-0700
TZNAME:MST
DTSTART:20240101T000000
END:STANDARD
END:VTIMEZONE
BEGIN:VEVENT
DTSTART;TZID=America/Phoenix:20250713T110000
DTEND;TZID=America/Phoenix:20250713T150000
DTSTAMP:20260421T070512
CREATED:20250626T130412Z
LAST-MODIFIED:20250626T130412Z
UID:8277-1752404400-1752418800@unitedanimalfriends.org
SUMMARY:Kitten Kaboodle Adoption Event
DESCRIPTION:Dozens of kittens available for adoption. All will be altered\, microchipped\, and up to date on all vaccinations. Adoption fee is $100 for one kitten or $125 for two. Completing the online application in advance does not obligate you to adopt\, but will speed the process if you find your new best friend.
URL:https://unitedanimalfriends.org/event/kitten-kaboodle-adoption-event/
LOCATION:Kitty City inside Petco\, 1931 AZ-69\, Prescott\, 86301\, United States
ORGANIZER;CN="United Animal Friends":MAILTO:helpinganimals@unitedanimalfriends.org
END:VEVENT
BEGIN:VEVENT
DTSTART;TZID=America/Phoenix:20250726T110000
DTEND;TZID=America/Phoenix:20250726T140000
DTSTAMP:20260421T070512
CREATED:20250515T125142Z
LAST-MODIFIED:20250515T125142Z
UID:8049-1753527600-1753538400@unitedanimalfriends.org
SUMMARY:Paws & Alohas
DESCRIPTION:Come join us at the UAF Rescue Ranch for our Paws & Alohas fundraising event\, featuring a dog wash and activities for your pet\, along with a pop-up pet supply market and cool treats for you. Sammi Maon\, our resident trainer\, will be offering free agility training and lure coursing\, in which your dog gets to chase an artificial lure along a course that simulates live prey. After all that activity\, treat your pooch to an all-day water park pass for a refreshing cool-down. While you’re there\, pick up some bargains at our pop-up market and treat yourself to a delicious treat from the Ohana Shave Ice food truck. See you there! Aloha!
URL:https://unitedanimalfriends.org/event/paws-alohas/
LOCATION:UAF Rescue Ranch\, 2600 Heckethorn Road\, Prescott\, AZ\, 86301\, United States
ORGANIZER;CN="United Animal Friends":MAILTO:helpinganimals@unitedanimalfriends.org
END:VEVENT
END:VCALENDAR