BEGIN:VCALENDAR
VERSION:2.0
PRODID:-//United Animal Friends - ECPv6.15.17//NONSGML v1.0//EN
CALSCALE:GREGORIAN
METHOD:PUBLISH
X-ORIGINAL-URL:https://unitedanimalfriends.org
X-WR-CALDESC:Events for United Animal Friends
REFRESH-INTERVAL;VALUE=DURATION:PT1H
X-Robots-Tag:noindex
X-PUBLISHED-TTL:PT1H
BEGIN:VTIMEZONE
TZID:America/Phoenix
BEGIN:STANDARD
TZOFFSETFROM:-0700
TZOFFSETTO:-0700
TZNAME:MST
DTSTART:20240101T000000
END:STANDARD
END:VTIMEZONE
BEGIN:VEVENT
DTSTART;TZID=America/Phoenix:20250309T080000
DTEND;TZID=America/Phoenix:20250309T120000
DTSTAMP:20260421T121344
CREATED:20250207T000810Z
LAST-MODIFIED:20250207T000810Z
UID:7765-1741507200-1741521600@unitedanimalfriends.org
SUMMARY:Vaccination Clinic
DESCRIPTION:United Animal Friends will provide FREE Distemper/Parvo vaccinations for dogs at a drive-through vaccination clinic Sunday\, March 9th\, 8am to noon. Rabies\, Bordetella\, Feline Distemper and microchips are available for $20 each. Appointment required.\n\nFor more information and to make an appointment\, go to www.unitedanimalfriends.org/spay-and-neuter-clinic.\n\n\nThe free Distemper/Parvo vaccines are made possible through Petco Love’s Vaccinated and Loved vaccination initiative\, which is providing one million free pet vaccines to UAF and other animal welfare partners nationwide. #PetcoLovePartner\n#VaccinatedAndLoved
URL:https://unitedanimalfriends.org/event/vaccination-clinic/
LOCATION:UAF Rescue Ranch\, 2600 Heckethorn Road\, Prescott\, AZ\, 86301\, United States
ORGANIZER;CN="United Animal Friends":MAILTO:helpinganimals@unitedanimalfriends.org
END:VEVENT
END:VCALENDAR