BEGIN:VCALENDAR
VERSION:2.0
PRODID:-//United Animal Friends - ECPv6.15.17//NONSGML v1.0//EN
CALSCALE:GREGORIAN
METHOD:PUBLISH
X-WR-CALNAME:United Animal Friends
X-ORIGINAL-URL:https://unitedanimalfriends.org
X-WR-CALDESC:Events for United Animal Friends
REFRESH-INTERVAL;VALUE=DURATION:PT1H
X-Robots-Tag:noindex
X-PUBLISHED-TTL:PT1H
BEGIN:VTIMEZONE
TZID:America/Phoenix
BEGIN:STANDARD
TZOFFSETFROM:-0700
TZOFFSETTO:-0700
TZNAME:MST
DTSTART:20230101T000000
END:STANDARD
END:VTIMEZONE
BEGIN:VEVENT
DTSTART;TZID=America/Phoenix:20240907T110000
DTEND;TZID=America/Phoenix:20240907T130000
DTSTAMP:20260421T201931
CREATED:20240530T155630Z
LAST-MODIFIED:20240530T155630Z
UID:5496-1725706800-1725714000@unitedanimalfriends.org
SUMMARY:UAF Reunion Picnic
DESCRIPTION:UAF adopters and volunteers are invited to our annual Reunion Picnic on Saturday\, September 7th at the UAF Rescue Ranch\, 2600 Heckethorn Drive in Prescott. Our volunteer fosters love to reconnect with their former foster pets and see them with their happy families. Adopted UAF pups are welcome and cat adopters are encouraged to attend and bring photos. This picnic is our way of saying thank you for adopting a UAF pet!
URL:https://unitedanimalfriends.org/event/uaf-reunion-picnic-2/
LOCATION:UAF Rescue Ranch\, 2600 Heckethorn Road\, Prescott\, AZ\, 86301\, United States
ORGANIZER;CN="United Animal Friends":MAILTO:helpinganimals@unitedanimalfriends.org
END:VEVENT
BEGIN:VEVENT
DTSTART;TZID=America/Phoenix:20240912T160000
DTEND;TZID=America/Phoenix:20240912T190000
DTSTAMP:20260421T201931
CREATED:20240416T135010Z
LAST-MODIFIED:20240416T140923Z
UID:5284-1726156800-1726167600@unitedanimalfriends.org
SUMMARY:Paws Outside the Palace
DESCRIPTION:Bring your pup and dine on the patio at the historic Palace Restaurant & Saloon on Whiskey Row in Prescott. The $25 entry fee helps animals in need. Reservations not required.
URL:https://unitedanimalfriends.org/event/paws-outside-the-palace/
LOCATION:The Palace Restaurant & Saloon\, 120 S Montezuma Street\, Prescott\, 86303\, United States
ORGANIZER;CN="United Animal Friends":MAILTO:helpinganimals@unitedanimalfriends.org
END:VEVENT
END:VCALENDAR