BEGIN:VCALENDAR
VERSION:2.0
PRODID:-//United Animal Friends - ECPv6.15.17//NONSGML v1.0//EN
CALSCALE:GREGORIAN
METHOD:PUBLISH
X-ORIGINAL-URL:https://unitedanimalfriends.org
X-WR-CALDESC:Events for United Animal Friends
REFRESH-INTERVAL;VALUE=DURATION:PT1H
X-Robots-Tag:noindex
X-PUBLISHED-TTL:PT1H
BEGIN:VTIMEZONE
TZID:America/Phoenix
BEGIN:STANDARD
TZOFFSETFROM:-0700
TZOFFSETTO:-0700
TZNAME:MST
DTSTART:20240101T000000
END:STANDARD
END:VTIMEZONE
BEGIN:VEVENT
DTSTART;TZID=America/Phoenix:20250927T100000
DTEND;TZID=America/Phoenix:20250927T140000
DTSTAMP:20260421T054638
CREATED:20250924T190226Z
LAST-MODIFIED:20250924T190226Z
UID:8414-1758967200-1758981600@unitedanimalfriends.org
SUMMARY:Findlay Hyundai Adoption Event
DESCRIPTION:Findlay Hyundai is going to the dogs on Saturday\, September 27th! Stop by their new location at 1315 Auto Park Drive in Prescott between 10 and 2 and you’ll be greeted by our adorable adoptable pups! Olsen’s Grain will also be on hand to hand out goodie bags to adopters. See you there!
URL:https://unitedanimalfriends.org/event/findlay-hyundai-adoption-event/
LOCATION:Findlay Hyundai\, 1315 Auto Park Drive\, Prescott\, AZ\, 86305\, United States
END:VEVENT
END:VCALENDAR