BEGIN:VCALENDAR
VERSION:2.0
PRODID:-//United Animal Friends - ECPv6.15.17//NONSGML v1.0//EN
CALSCALE:GREGORIAN
METHOD:PUBLISH
X-ORIGINAL-URL:https://unitedanimalfriends.org
X-WR-CALDESC:Events for United Animal Friends
REFRESH-INTERVAL;VALUE=DURATION:PT1H
X-Robots-Tag:noindex
X-PUBLISHED-TTL:PT1H
BEGIN:VTIMEZONE
TZID:America/Phoenix
BEGIN:STANDARD
TZOFFSETFROM:-0700
TZOFFSETTO:-0700
TZNAME:MST
DTSTART:20240101T000000
END:STANDARD
END:VTIMEZONE
BEGIN:VEVENT
DTSTART;TZID=America/Phoenix:20250212T100000
DTEND;TZID=America/Phoenix:20250215T160000
DTSTAMP:20260421T143632
CREATED:20250122T172519Z
LAST-MODIFIED:20250122T172519Z
UID:7725-1739354400-1739635200@unitedanimalfriends.org
SUMMARY:Furr-tastic Finds Valentine's Sale
DESCRIPTION:All clothing at Furr-tastic Finds Rescue Resale will be half price on February 12th through 15th! The store is located at 510 S Montezuma and is open Wednesday through Saturday 10am to 4pm. Don’t miss out on this sweet sale!
URL:https://unitedanimalfriends.org/event/furr-tastic-finds-valentines-sale/
LOCATION:Furr-tastic Finds Rescue Resale\, 510 S Montezuma Street\, Prescott\, AZ\, 86303\, United States
ORGANIZER;CN="United Animal Friends":MAILTO:helpinganimals@unitedanimalfriends.org
END:VEVENT
END:VCALENDAR