BEGIN:VCALENDAR
VERSION:2.0
PRODID:-//United Animal Friends - ECPv6.15.17//NONSGML v1.0//EN
CALSCALE:GREGORIAN
METHOD:PUBLISH
X-WR-CALNAME:United Animal Friends
X-ORIGINAL-URL:https://unitedanimalfriends.org
X-WR-CALDESC:Events for United Animal Friends
REFRESH-INTERVAL;VALUE=DURATION:PT1H
X-Robots-Tag:noindex
X-PUBLISHED-TTL:PT1H
BEGIN:VTIMEZONE
TZID:America/Phoenix
BEGIN:STANDARD
TZOFFSETFROM:-0700
TZOFFSETTO:-0700
TZNAME:MST
DTSTART:20230101T000000
END:STANDARD
END:VTIMEZONE
BEGIN:VEVENT
DTSTART;TZID=America/Phoenix:20241207T100000
DTEND;TZID=America/Phoenix:20241207T160000
DTSTAMP:20260421T172459
CREATED:20240727T114212Z
LAST-MODIFIED:20240727T114212Z
UID:6237-1733565600-1733587200@unitedanimalfriends.org
SUMMARY:Last-Minute Stocking Stuffer
DESCRIPTION:The Last-Minute Stocking Stuffer is a fun way to shop for unique\, handcrafted gifts and goodies for the holidays while supporting United Animal Friends and other nonprofits. Come early for the best selection!
URL:https://unitedanimalfriends.org/event/last-minute-stocking-stuffer-2/
LOCATION:Prescott Activity Center
ORGANIZER;CN="United Animal Friends":MAILTO:helpinganimals@unitedanimalfriends.org
END:VEVENT
END:VCALENDAR