BEGIN:VCALENDAR
VERSION:2.0
PRODID:-//United Animal Friends - ECPv6.15.17//NONSGML v1.0//EN
CALSCALE:GREGORIAN
METHOD:PUBLISH
X-WR-CALNAME:United Animal Friends
X-ORIGINAL-URL:https://unitedanimalfriends.org
X-WR-CALDESC:Events for United Animal Friends
REFRESH-INTERVAL;VALUE=DURATION:PT1H
X-Robots-Tag:noindex
X-PUBLISHED-TTL:PT1H
BEGIN:VTIMEZONE
TZID:America/Phoenix
BEGIN:STANDARD
TZOFFSETFROM:-0700
TZOFFSETTO:-0700
TZNAME:MST
DTSTART:20230101T000000
END:STANDARD
END:VTIMEZONE
BEGIN:VEVENT
DTSTART;TZID=America/Phoenix:20241026T110000
DTEND;TZID=America/Phoenix:20241026T210000
DTSTAMP:20260421T201539
CREATED:20241016T125545Z
LAST-MODIFIED:20241016T125702Z
UID:7506-1729940400-1729976400@unitedanimalfriends.org
SUMMARY:LazyG Brewhouse Fundraiser & Adoption Event
DESCRIPTION:Come meet our adoptable dogs and stay for lunch or dinner! LazyG will donate a percentage of all food sales for the day to United Animal Friends! Our friendly volunteers and pups will be there to greet you from 11:00 to 3:00. While you’re there\, try your luck with a free spin on our prize wheel for a chance to win a prize or a discount at our Furr-tastic Finds Rescue Resale thrift store. After your meal\, walk around the corner to the store at 510 S. Montezuma Street for great bargains!
URL:https://unitedanimalfriends.org/event/lazyg-brewhouse-fundraiser-adoption-event/
LOCATION:LazyG Brewhouse\, 220 W Leroux Street\, Prescott\, AZ\, 86303\, United States
END:VEVENT
END:VCALENDAR