BEGIN:VCALENDAR
VERSION:2.0
PRODID:-//United Animal Friends - ECPv6.15.17//NONSGML v1.0//EN
CALSCALE:GREGORIAN
METHOD:PUBLISH
X-WR-CALNAME:United Animal Friends
X-ORIGINAL-URL:https://unitedanimalfriends.org
X-WR-CALDESC:Events for United Animal Friends
REFRESH-INTERVAL;VALUE=DURATION:PT1H
X-Robots-Tag:noindex
X-PUBLISHED-TTL:PT1H
BEGIN:VTIMEZONE
TZID:America/Phoenix
BEGIN:STANDARD
TZOFFSETFROM:-0700
TZOFFSETTO:-0700
TZNAME:MST
DTSTART:20230101T000000
END:STANDARD
END:VTIMEZONE
BEGIN:VEVENT
DTSTART;TZID=America/Phoenix:20241019T100000
DTEND;TZID=America/Phoenix:20241019T130000
DTSTAMP:20260421T201540
CREATED:20240416T140002Z
LAST-MODIFIED:20240416T140859Z
UID:5290-1729332000-1729342800@unitedanimalfriends.org
SUMMARY:Hike for Hounds Fall Festival
DESCRIPTION:Hike the Peavine Trail and return to the UAF Rescue Ranch to enjoy lunch on the lawn and stroll around for shopping\, information\, face painting and more!
URL:https://unitedanimalfriends.org/event/hike-for-hounds-fall-festival-2/
LOCATION:UAF Rescue Ranch\, 2600 Heckethorn Road\, Prescott\, AZ\, 86301\, United States
ORGANIZER;CN="United Animal Friends":MAILTO:helpinganimals@unitedanimalfriends.org
END:VEVENT
END:VCALENDAR